BEGIN:VCALENDAR
VERSION:2.0
PRODID:-//Tukios.com/
BEGIN:VEVENT
UID:6b11da66-591f-4124-af73-927e9458938f@www.ryanfh.com
DTSTAMP:20260425T025551Z
DTSTART:20260505T143000Z
DTEND:20260505T163000Z
SUMMARY:Viewing
DESCRIPTION:
URL:https://www.ryanfh.com/obituaries/carol-krueger
LOCATION:Faith United Methodist Church 204 Horn Street  Brillion WI 54110
GEO:44.1720057;-88.0610126
END:VEVENT
END:VCALENDAR