BEGIN:VCALENDAR
VERSION:2.0
PRODID:-//Tukios.com/
BEGIN:VEVENT
UID:f8d0fe30-d181-4264-af71-ba939670787a@www.ryanfh.com
DTSTAMP:20260425T025644Z
DTSTART:20260505T163000Z
DTEND:20260505T173000Z
SUMMARY:Funeral Service
DESCRIPTION:
URL:https://www.ryanfh.com/obituaries/carol-krueger
LOCATION:Faith United Methodist Church 204 Horn Street  Brillion WI 54110
GEO:44.1720057;-88.0610126
END:VEVENT
END:VCALENDAR