BEGIN:VCALENDAR
VERSION:2.0
PRODID:-//Tukios.com/
BEGIN:VEVENT
UID:42affb37-a355-47a7-870a-d453a3bb6cbe@www.ryanfh.com
DTSTAMP:20260421T002347Z
DTSTART:20260423T150000Z
DTEND:20260423T170000Z
SUMMARY:Visitation
DESCRIPTION:
URL:https://www.ryanfh.com/obituaries/jerry-klug
LOCATION: 2066 Lawrence Drive  De Pere WI 54115
GEO:44.4181004;-88.116098
END:VEVENT
END:VCALENDAR