BEGIN:VCALENDAR
VERSION:2.0
PRODID:-//Tukios.com/
BEGIN:VEVENT
UID:7b82f439-f598-4dfe-b953-2765b5d42d4f@www.ryanfh.com
DTSTAMP:20260421T002049Z
DTSTART:20260423T170000Z
DTEND:20260423T180000Z
SUMMARY:Funeral Service
DESCRIPTION:Military Honors to follow
URL:https://www.ryanfh.com/obituaries/jerry-klug
LOCATION: 2066 Lawrence Drive  De Pere WI 54115
GEO:44.4181004;-88.116098
END:VEVENT
END:VCALENDAR