BEGIN:VCALENDAR
VERSION:2.0
PRODID:-//Tukios.com/
BEGIN:VEVENT
UID:86334d6d-5c6c-4677-b48c-226408279996@www.ryanfh.com
DTSTAMP:20260421T222112Z
DTSTART:20260424T150000Z
DTEND:20260424T170000Z
SUMMARY:Visitation
DESCRIPTION:
URL:https://www.ryanfh.com/obituaries/ronald-wach
LOCATION: 305 N 10th St  De Pere WI 54115
GEO:44.4532584;-88.0851239
END:VEVENT
END:VCALENDAR