BEGIN:VCALENDAR
VERSION:2.0
PRODID:-//Tukios.com/
BEGIN:VEVENT
UID:0a8a3d66-165b-4601-a0b6-c58b9213f0b1@www.ryanfh.com
DTSTAMP:20260421T221809Z
DTSTART:20260424T170000Z
DTEND:20260424T180000Z
SUMMARY:Funeral Service
DESCRIPTION:
URL:https://www.ryanfh.com/obituaries/ronald-wach
LOCATION: 305 N 10th St  De Pere WI 54115
GEO:44.4532584;-88.0851239
END:VEVENT
END:VCALENDAR